BEGIN:VCALENDAR
VERSION:2.0
PRODID:-//Dogtown Pet Spa - ECPv6.15.20//NONSGML v1.0//EN
CALSCALE:GREGORIAN
METHOD:PUBLISH
X-ORIGINAL-URL:https://dogtownpetspa.com
X-WR-CALDESC:Events for Dogtown Pet Spa
REFRESH-INTERVAL;VALUE=DURATION:PT1H
X-Robots-Tag:noindex
X-PUBLISHED-TTL:PT1H
BEGIN:VTIMEZONE
TZID:America/Denver
BEGIN:DAYLIGHT
TZOFFSETFROM:-0700
TZOFFSETTO:-0600
TZNAME:MDT
DTSTART:20230312T090000
END:DAYLIGHT
BEGIN:STANDARD
TZOFFSETFROM:-0600
TZOFFSETTO:-0700
TZNAME:MST
DTSTART:20231105T080000
END:STANDARD
BEGIN:DAYLIGHT
TZOFFSETFROM:-0700
TZOFFSETTO:-0600
TZNAME:MDT
DTSTART:20240310T090000
END:DAYLIGHT
BEGIN:STANDARD
TZOFFSETFROM:-0600
TZOFFSETTO:-0700
TZNAME:MST
DTSTART:20241103T080000
END:STANDARD
BEGIN:DAYLIGHT
TZOFFSETFROM:-0700
TZOFFSETTO:-0600
TZNAME:MDT
DTSTART:20250309T090000
END:DAYLIGHT
BEGIN:STANDARD
TZOFFSETFROM:-0600
TZOFFSETTO:-0700
TZNAME:MST
DTSTART:20251102T080000
END:STANDARD
END:VTIMEZONE
BEGIN:VEVENT
DTSTART;TZID=America/Denver:20241005T103000
DTEND;TZID=America/Denver:20241005T123000
DTSTAMP:20260420T110244
CREATED:20240712T072859Z
LAST-MODIFIED:20240712T072859Z
UID:613885-1728124200-1728131400@dogtownpetspa.com
SUMMARY:Raise the Woof
DESCRIPTION:Do you love dressing up your doggo\, while supporting a good cause? Join us this October for Raise the Woof Canine Carnival held in partnership with Nuzzles & Co. to raise awareness and donations for the Purple Paw Program. \n\nA doggie agility course\, super adorable costume contest\, local vendors\, and so much more await you and your pup! Mark your calendar you won’t want to miss any of the fun!
URL:https://dogtownpetspa.com/event/raise-the-woof/
END:VEVENT
BEGIN:VEVENT
DTSTART;TZID=America/Denver:20241019T110000
DTEND;TZID=America/Denver:20241019T130000
DTSTAMP:20260420T110244
CREATED:20241001T113832Z
LAST-MODIFIED:20241001T113832Z
UID:615505-1729335600-1729342800@dogtownpetspa.com
SUMMARY:Make a Dog's Day with Mark Miller Subaru Southtowne
DESCRIPTION:
URL:https://dogtownpetspa.com/event/make-a-dogs-day-with-mark-miller-subaru-southtowne/
END:VEVENT
BEGIN:VEVENT
DTSTART;TZID=America/Denver:20241026T110000
DTEND;TZID=America/Denver:20241026T140000
DTSTAMP:20260420T110244
CREATED:20241001T114315Z
LAST-MODIFIED:20241001T114315Z
UID:615510-1729940400-1729951200@dogtownpetspa.com
SUMMARY:Mountain West Veterinary Specialists - Bluffdale Public Open House
DESCRIPTION:Come tour the hospital\, meet some of the team members and enjoy fun prizes and treats!
URL:https://dogtownpetspa.com/event/mountain-west-veterinary-specialists-bluffdale-public-open-house/
END:VEVENT
BEGIN:VEVENT
DTSTART;VALUE=DATE:20241028
DTEND;VALUE=DATE:20241101
DTSTAMP:20260420T110244
CREATED:20241025T082848Z
LAST-MODIFIED:20241025T082848Z
UID:615834-1730073600-1730419199@dogtownpetspa.com
SUMMARY:Haunt the Blvd Scavenger Hunt
DESCRIPTION:For even more Halloween fun\, join us in the “Haunt the Blvd” Scavenger Hunt throughout the week leading up to Halloween! \nEach participating business will hide a 3D-printed pumpkin in their store. Your mission is to find the pumpkin and claim your prize. \nPrizes include discounts or free items. Don’t fret – It will be re-hidden for the next winner (Multiple Winners a Day) \n\nDates: The entire week leading up to Halloween (October 28th to October 31)\nWhat: Find the hidden pumpkins at participating businesses\, win prizes\, and follow clues on social media for hints!\nExtra Fun: Businesses may offer first-of-the-day prizes or post additional hints on their social media\, so stay tuned for more ways to win!\n\nFor a complete list of businesses and activities please visit shoplocalstgeorge.com
URL:https://dogtownpetspa.com/event/haunt-the-blvd-scavenger-hunt/
END:VEVENT
BEGIN:VEVENT
DTSTART;TZID=America/Denver:20241028T160000
DTEND;TZID=America/Denver:20241028T200000
DTSTAMP:20260420T110244
CREATED:20241001T080107Z
LAST-MODIFIED:20241001T080107Z
UID:615484-1730131200-1730145600@dogtownpetspa.com
SUMMARY:Dog Days in the Maze at Wheeler Farm
DESCRIPTION:Join us for Dog Days in the Maze at Wheeler Farm on October 28th\, from 4 to 8 p.m.! Hosted in the charming main barn\, this ticketed event is the ultimate costume party for dogs. Dogtown Pet Spa can’t wait to see your pups dressed up and ready for a night of fun. Expect giveaways\, tasty treats\, and a spooktacular time as we celebrate Halloween with our furry friends. This is one party you and your pup won’t want to miss!
URL:https://dogtownpetspa.com/event/dog-days-in-the-maze-at-wheeler-farm/
END:VEVENT
BEGIN:VEVENT
DTSTART;TZID=America/Denver:20241028T180000
DTEND;TZID=America/Denver:20241028T200000
DTSTAMP:20260420T110244
CREATED:20241001T114610Z
LAST-MODIFIED:20241001T114610Z
UID:615515-1730138400-1730145600@dogtownpetspa.com
SUMMARY:Trunk or Treat with the City of Washington
DESCRIPTION:Get ready for a fang-tastic time at the Washington City Trunk or Treat! Join Dogtown Pet Spa at the Washington City Community Center parking lot on October 28th from 6-8\, for a spook-tacular evening of costumes\, candy\, and Halloween fun.
URL:https://dogtownpetspa.com/event/trunk-or-treat-with-the-city-of-washington/
END:VEVENT
END:VCALENDAR