BEGIN:VCALENDAR
VERSION:2.0
PRODID:-//Dogtown Pet Spa - ECPv6.15.20//NONSGML v1.0//EN
CALSCALE:GREGORIAN
METHOD:PUBLISH
X-WR-CALNAME:Dogtown Pet Spa
X-ORIGINAL-URL:https://dogtownpetspa.com
X-WR-CALDESC:Events for Dogtown Pet Spa
REFRESH-INTERVAL;VALUE=DURATION:PT1H
X-Robots-Tag:noindex
X-PUBLISHED-TTL:PT1H
BEGIN:VTIMEZONE
TZID:America/Denver
BEGIN:DAYLIGHT
TZOFFSETFROM:-0700
TZOFFSETTO:-0600
TZNAME:MDT
DTSTART:20230312T090000
END:DAYLIGHT
BEGIN:STANDARD
TZOFFSETFROM:-0600
TZOFFSETTO:-0700
TZNAME:MST
DTSTART:20231105T080000
END:STANDARD
BEGIN:DAYLIGHT
TZOFFSETFROM:-0700
TZOFFSETTO:-0600
TZNAME:MDT
DTSTART:20240310T090000
END:DAYLIGHT
BEGIN:STANDARD
TZOFFSETFROM:-0600
TZOFFSETTO:-0700
TZNAME:MST
DTSTART:20241103T080000
END:STANDARD
BEGIN:DAYLIGHT
TZOFFSETFROM:-0700
TZOFFSETTO:-0600
TZNAME:MDT
DTSTART:20250309T090000
END:DAYLIGHT
BEGIN:STANDARD
TZOFFSETFROM:-0600
TZOFFSETTO:-0700
TZNAME:MST
DTSTART:20251102T080000
END:STANDARD
END:VTIMEZONE
BEGIN:VEVENT
DTSTART;VALUE=DATE:20240401
DTEND;VALUE=DATE:20240402
DTSTAMP:20260420T192109
CREATED:20240327T100606Z
LAST-MODIFIED:20240327T100606Z
UID:581222-1711929600-1712015999@dogtownpetspa.com
SUMMARY:5 year Anniversary at Sandy Dogtown
DESCRIPTION:
URL:https://dogtownpetspa.com/event/5-year-anniversary-at-sandy-dogtown/
END:VEVENT
BEGIN:VEVENT
DTSTART;TZID=America/Denver:20240413T120000
DTEND;TZID=America/Denver:20240413T123000
DTSTAMP:20260420T192109
CREATED:20240409T101133Z
LAST-MODIFIED:20240409T101133Z
UID:591347-1713009600-1713011400@dogtownpetspa.com
SUMMARY:Canine body language and signals
DESCRIPTION:Reserve your spot today for a very special offering! We are excited to present an owner-focused educational course at Dogtown. This course is for our tow-legged guests only and will cover important information about canine body language and the importance of recognizing your pup’s signals.
URL:https://dogtownpetspa.com/event/canine-body-language-and-signals/
END:VEVENT
BEGIN:VEVENT
DTSTART;TZID=America/Denver:20240421T190000
DTEND;TZID=America/Denver:20240421T210000
DTSTAMP:20260420T192109
CREATED:20240405T063408Z
LAST-MODIFIED:20240405T063408Z
UID:588313-1713726000-1713733200@dogtownpetspa.com
SUMMARY:Ladies Night Out with Scheels
DESCRIPTION:Come and visit us for Ladies Night. This event is in support of Bridle Up Hope.
URL:https://dogtownpetspa.com/event/ladies-night-out-with-scheels/
END:VEVENT
END:VCALENDAR