BEGIN:VCALENDAR
VERSION:2.0
PRODID:-//Dogtown Pet Spa - ECPv6.15.20//NONSGML v1.0//EN
CALSCALE:GREGORIAN
METHOD:PUBLISH
X-WR-CALNAME:Dogtown Pet Spa
X-ORIGINAL-URL:https://dogtownpetspa.com
X-WR-CALDESC:Events for Dogtown Pet Spa
REFRESH-INTERVAL;VALUE=DURATION:PT1H
X-Robots-Tag:noindex
X-PUBLISHED-TTL:PT1H
BEGIN:VTIMEZONE
TZID:America/Denver
BEGIN:DAYLIGHT
TZOFFSETFROM:-0700
TZOFFSETTO:-0600
TZNAME:MDT
DTSTART:20230312T090000
END:DAYLIGHT
BEGIN:STANDARD
TZOFFSETFROM:-0600
TZOFFSETTO:-0700
TZNAME:MST
DTSTART:20231105T080000
END:STANDARD
BEGIN:DAYLIGHT
TZOFFSETFROM:-0700
TZOFFSETTO:-0600
TZNAME:MDT
DTSTART:20240310T090000
END:DAYLIGHT
BEGIN:STANDARD
TZOFFSETFROM:-0600
TZOFFSETTO:-0700
TZNAME:MST
DTSTART:20241103T080000
END:STANDARD
BEGIN:DAYLIGHT
TZOFFSETFROM:-0700
TZOFFSETTO:-0600
TZNAME:MDT
DTSTART:20250309T090000
END:DAYLIGHT
BEGIN:STANDARD
TZOFFSETFROM:-0600
TZOFFSETTO:-0700
TZNAME:MST
DTSTART:20251102T080000
END:STANDARD
END:VTIMEZONE
BEGIN:VEVENT
DTSTART;TZID=America/Denver:20240305T170000
DTEND;TZID=America/Denver:20240305T180000
DTSTAMP:20260420T205718
CREATED:20240305T105405Z
LAST-MODIFIED:20240305T105405Z
UID:564125-1709658000-1709661600@dogtownpetspa.com
SUMMARY:Advanced Skills at Dog Town Pet Spa Sandy
DESCRIPTION:
URL:https://dogtownpetspa.com/event/advanced-skills-at-dog-town-pet-spa-sandy/
END:VEVENT
BEGIN:VEVENT
DTSTART;TZID=America/Denver:20240307T170000
DTEND;TZID=America/Denver:20240307T180000
DTSTAMP:20260420T205718
CREATED:20240307T071316Z
LAST-MODIFIED:20240307T071316Z
UID:565002-1709830800-1709834400@dogtownpetspa.com
SUMMARY:Basic Obedience
DESCRIPTION:
URL:https://dogtownpetspa.com/event/basic-obedience/
END:VEVENT
BEGIN:VEVENT
DTSTART;VALUE=DATE:20240308
DTEND;VALUE=DATE:20240311
DTSTAMP:20260420T205718
CREATED:20240207T112150Z
LAST-MODIFIED:20240207T112150Z
UID:542051-1709856000-1710115199@dogtownpetspa.com
SUMMARY:Dogtown Pet Spa at the Salt Lake Home + Garden Show
DESCRIPTION:Please come and visit us at our booth at the Salt Lake Home + Garden Show!
URL:https://dogtownpetspa.com/event/dogtown-at-salt-lake-home-garden-show/
END:VEVENT
BEGIN:VEVENT
DTSTART;TZID=America/Denver:20240312T170000
DTEND;TZID=America/Denver:20240312T180000
DTSTAMP:20260420T205718
CREATED:20240307T071947Z
LAST-MODIFIED:20240307T071947Z
UID:565750-1710262800-1710266400@dogtownpetspa.com
SUMMARY:Tricks
DESCRIPTION:
URL:https://dogtownpetspa.com/event/tricks/
END:VEVENT
BEGIN:VEVENT
DTSTART;TZID=America/Denver:20240315T180000
DTEND;TZID=America/Denver:20240315T190000
DTSTAMP:20260420T205718
CREATED:20240307T072053Z
LAST-MODIFIED:20240307T072053Z
UID:565754-1710525600-1710529200@dogtownpetspa.com
SUMMARY:Advanced Skills
DESCRIPTION:
URL:https://dogtownpetspa.com/event/advanced-skills/
END:VEVENT
BEGIN:VEVENT
DTSTART;TZID=America/Denver:20240316T093000
DTEND;TZID=America/Denver:20240316T103000
DTSTAMP:20260420T205718
CREATED:20240307T072200Z
LAST-MODIFIED:20240307T072200Z
UID:565757-1710581400-1710585000@dogtownpetspa.com
SUMMARY:Recall Training
DESCRIPTION:
URL:https://dogtownpetspa.com/event/recall-training/
END:VEVENT
BEGIN:VEVENT
DTSTART;TZID=America/Denver:20240316T103000
DTEND;TZID=America/Denver:20240316T113000
DTSTAMP:20260420T205718
CREATED:20240307T072308Z
LAST-MODIFIED:20240307T072308Z
UID:565760-1710585000-1710588600@dogtownpetspa.com
SUMMARY:Recall Training
DESCRIPTION:
URL:https://dogtownpetspa.com/event/recall-training-2/
END:VEVENT
BEGIN:VEVENT
DTSTART;TZID=America/Denver:20240316T113000
DTEND;TZID=America/Denver:20240316T123000
DTSTAMP:20260420T205718
CREATED:20240307T072344Z
LAST-MODIFIED:20240307T072344Z
UID:565762-1710588600-1710592200@dogtownpetspa.com
SUMMARY:Recall Training
DESCRIPTION:
URL:https://dogtownpetspa.com/event/recall-training-3/
END:VEVENT
BEGIN:VEVENT
DTSTART;TZID=America/Denver:20240319T170000
DTEND;TZID=America/Denver:20240319T180000
DTSTAMP:20260420T205718
CREATED:20240307T072526Z
LAST-MODIFIED:20240307T072526Z
UID:565769-1710867600-1710871200@dogtownpetspa.com
SUMMARY:Tricks
DESCRIPTION:
URL:https://dogtownpetspa.com/event/tricks-2/
END:VEVENT
BEGIN:VEVENT
DTSTART;TZID=America/Denver:20240322T180000
DTEND;TZID=America/Denver:20240322T190000
DTSTAMP:20260420T205718
CREATED:20240307T072638Z
LAST-MODIFIED:20240307T072638Z
UID:565773-1711130400-1711134000@dogtownpetspa.com
SUMMARY:Advanced Skills
DESCRIPTION:
URL:https://dogtownpetspa.com/event/advanced-skills-2/
END:VEVENT
BEGIN:VEVENT
DTSTART;TZID=America/Denver:20240323T093000
DTEND;TZID=America/Denver:20240323T103000
DTSTAMP:20260420T205718
CREATED:20240307T073219Z
LAST-MODIFIED:20240307T073219Z
UID:565780-1711186200-1711189800@dogtownpetspa.com
SUMMARY:Basic Obedience
DESCRIPTION:
URL:https://dogtownpetspa.com/event/basic-obedience-2/
END:VEVENT
BEGIN:VEVENT
DTSTART;TZID=America/Denver:20240323T103000
DTEND;TZID=America/Denver:20240323T113000
DTSTAMP:20260420T205718
CREATED:20240307T073348Z
LAST-MODIFIED:20240307T073348Z
UID:565782-1711189800-1711193400@dogtownpetspa.com
SUMMARY:Basic Obedience
DESCRIPTION:
URL:https://dogtownpetspa.com/event/basic-obedience-3/
END:VEVENT
BEGIN:VEVENT
DTSTART;TZID=America/Denver:20240323T113000
DTEND;TZID=America/Denver:20240323T123000
DTSTAMP:20260420T205718
CREATED:20240307T073437Z
LAST-MODIFIED:20240307T073437Z
UID:565787-1711193400-1711197000@dogtownpetspa.com
SUMMARY:Basic Obedience
DESCRIPTION:
URL:https://dogtownpetspa.com/event/basic-obedience-4/
END:VEVENT
BEGIN:VEVENT
DTSTART;TZID=America/Denver:20240326T170000
DTEND;TZID=America/Denver:20240326T180000
DTSTAMP:20260420T205718
CREATED:20240307T074810Z
LAST-MODIFIED:20240307T074810Z
UID:565807-1711472400-1711476000@dogtownpetspa.com
SUMMARY:Tricks
DESCRIPTION:
URL:https://dogtownpetspa.com/event/tricks-3/
END:VEVENT
BEGIN:VEVENT
DTSTART;TZID=America/Denver:20240327T173000
DTEND;TZID=America/Denver:20240327T200000
DTSTAMP:20260420T205718
CREATED:20240307T075958Z
LAST-MODIFIED:20240307T075958Z
UID:565819-1711560600-1711569600@dogtownpetspa.com
SUMMARY:Second Chance For Homeless Pets Gala
DESCRIPTION:
URL:https://dogtownpetspa.com/event/second-chance-for-homeless-pets-gala/
END:VEVENT
BEGIN:VEVENT
DTSTART;TZID=America/Denver:20240328T150000
DTEND;TZID=America/Denver:20240328T190000
DTSTAMP:20260420T205718
CREATED:20240307T080309Z
LAST-MODIFIED:20240307T080309Z
UID:565829-1711638000-1711652400@dogtownpetspa.com
SUMMARY:Wheeler Historic Farm Bone Hunt
DESCRIPTION:
URL:https://dogtownpetspa.com/event/wheeler-historic-farm-bone-hunt/
END:VEVENT
BEGIN:VEVENT
DTSTART;TZID=America/Denver:20240329T180000
DTEND;TZID=America/Denver:20240329T190000
DTSTAMP:20260420T205718
CREATED:20240307T074810Z
LAST-MODIFIED:20240307T074810Z
UID:565808-1711735200-1711738800@dogtownpetspa.com
SUMMARY:Recall Training
DESCRIPTION:
URL:https://dogtownpetspa.com/event/recall-training-4/
END:VEVENT
BEGIN:VEVENT
DTSTART;TZID=America/Denver:20240330T093000
DTEND;TZID=America/Denver:20240330T103000
DTSTAMP:20260420T205718
CREATED:20240307T074810Z
LAST-MODIFIED:20240307T074810Z
UID:565809-1711791000-1711794600@dogtownpetspa.com
SUMMARY:Tricks
DESCRIPTION:
URL:https://dogtownpetspa.com/event/tricks-4/
END:VEVENT
BEGIN:VEVENT
DTSTART;TZID=America/Denver:20240330T103000
DTEND;TZID=America/Denver:20240330T113000
DTSTAMP:20260420T205718
CREATED:20240307T074810Z
LAST-MODIFIED:20240307T074810Z
UID:565810-1711794600-1711798200@dogtownpetspa.com
SUMMARY:Tricks
DESCRIPTION:
URL:https://dogtownpetspa.com/event/tricks-5/
END:VEVENT
BEGIN:VEVENT
DTSTART;TZID=America/Denver:20240330T113000
DTEND;TZID=America/Denver:20240330T123000
DTSTAMP:20260420T205718
CREATED:20240307T074811Z
LAST-MODIFIED:20240307T074811Z
UID:565811-1711798200-1711801800@dogtownpetspa.com
SUMMARY:Tricks
DESCRIPTION:
URL:https://dogtownpetspa.com/event/tricks-6/
END:VEVENT
END:VCALENDAR