BEGIN:VCALENDAR
VERSION:2.0
PRODID:-//Dogtown Pet Spa - ECPv6.15.20//NONSGML v1.0//EN
CALSCALE:GREGORIAN
METHOD:PUBLISH
X-WR-CALNAME:Dogtown Pet Spa
X-ORIGINAL-URL:https://dogtownpetspa.com
X-WR-CALDESC:Events for Dogtown Pet Spa
REFRESH-INTERVAL;VALUE=DURATION:PT1H
X-Robots-Tag:noindex
X-PUBLISHED-TTL:PT1H
BEGIN:VTIMEZONE
TZID:America/Denver
BEGIN:DAYLIGHT
TZOFFSETFROM:-0700
TZOFFSETTO:-0600
TZNAME:MDT
DTSTART:20230312T090000
END:DAYLIGHT
BEGIN:STANDARD
TZOFFSETFROM:-0600
TZOFFSETTO:-0700
TZNAME:MST
DTSTART:20231105T080000
END:STANDARD
BEGIN:DAYLIGHT
TZOFFSETFROM:-0700
TZOFFSETTO:-0600
TZNAME:MDT
DTSTART:20240310T090000
END:DAYLIGHT
BEGIN:STANDARD
TZOFFSETFROM:-0600
TZOFFSETTO:-0700
TZNAME:MST
DTSTART:20241103T080000
END:STANDARD
BEGIN:DAYLIGHT
TZOFFSETFROM:-0700
TZOFFSETTO:-0600
TZNAME:MDT
DTSTART:20250309T090000
END:DAYLIGHT
BEGIN:STANDARD
TZOFFSETFROM:-0600
TZOFFSETTO:-0700
TZNAME:MST
DTSTART:20251102T080000
END:STANDARD
END:VTIMEZONE
BEGIN:VEVENT
DTSTART;VALUE=DATE:20240308
DTEND;VALUE=DATE:20240311
DTSTAMP:20260420T222258
CREATED:20240207T112150Z
LAST-MODIFIED:20240207T112150Z
UID:542051-1709856000-1710115199@dogtownpetspa.com
SUMMARY:Dogtown Pet Spa at the Salt Lake Home + Garden Show
DESCRIPTION:Please come and visit us at our booth at the Salt Lake Home + Garden Show!
URL:https://dogtownpetspa.com/event/dogtown-at-salt-lake-home-garden-show/
END:VEVENT
END:VCALENDAR